BEGIN:VCALENDAR
VERSION:2.0
PRODID:-//Flagstaff Mission Tabernacle - ECPv6.15.12.2//NONSGML v1.0//EN
CALSCALE:GREGORIAN
METHOD:PUBLISH
X-ORIGINAL-URL:https://flagstafftabernacle.com
X-WR-CALDESC:Events for Flagstaff Mission Tabernacle
REFRESH-INTERVAL;VALUE=DURATION:PT1H
X-Robots-Tag:noindex
X-PUBLISHED-TTL:PT1H
BEGIN:VTIMEZONE
TZID:America/Phoenix
BEGIN:STANDARD
TZOFFSETFROM:-0700
TZOFFSETTO:-0700
TZNAME:MST
DTSTART:20220101T000000
END:STANDARD
END:VTIMEZONE
BEGIN:VTIMEZONE
TZID:UTC
BEGIN:STANDARD
TZOFFSETFROM:+0000
TZOFFSETTO:+0000
TZNAME:UTC
DTSTART:20220101T000000
END:STANDARD
END:VTIMEZONE
BEGIN:VEVENT
DTSTART;TZID=America/Phoenix:20230514T103000
DTEND;TZID=America/Phoenix:20230514T103000
DTSTAMP:20260422T220653
CREATED:20230224T214142Z
LAST-MODIFIED:20230224T214142Z
UID:3128-1684060200-1684060200@flagstafftabernacle.com
SUMMARY:Sunday Morning Service
DESCRIPTION:Sunday Morning Service
URL:https://flagstafftabernacle.com/event/sunday-morning-service-14/
CATEGORIES:Services
END:VEVENT
BEGIN:VEVENT
DTSTART;TZID=America/Phoenix:20230510T190000
DTEND;TZID=America/Phoenix:20230510T190000
DTSTAMP:20260422T220653
CREATED:20230224T214935Z
LAST-MODIFIED:20230224T214935Z
UID:3223-1683745200-1683745200@flagstafftabernacle.com
SUMMARY:Wednesday Evening Service
DESCRIPTION:Wednesday Evening Service
URL:https://flagstafftabernacle.com/event/wednesday-evening-service-13/
CATEGORIES:Services
END:VEVENT
BEGIN:VEVENT
DTSTART;TZID=America/Phoenix:20230507T103000
DTEND;TZID=America/Phoenix:20230507T103000
DTSTAMP:20260422T220653
CREATED:20230224T214128Z
LAST-MODIFIED:20230224T214128Z
UID:3127-1683455400-1683455400@flagstafftabernacle.com
SUMMARY:Sunday Morning Service
DESCRIPTION:Sunday Morning Service
URL:https://flagstafftabernacle.com/event/sunday-morning-service-13/
CATEGORIES:Services
END:VEVENT
BEGIN:VEVENT
DTSTART;TZID=America/Phoenix:20230503T190000
DTEND;TZID=America/Phoenix:20230503T190000
DTSTAMP:20260422T220653
CREATED:20230224T214935Z
LAST-MODIFIED:20230224T214935Z
UID:3222-1683140400-1683140400@flagstafftabernacle.com
SUMMARY:Wednesday Evening Service
DESCRIPTION:Wednesday Evening Service
URL:https://flagstafftabernacle.com/event/wednesday-evening-service-12/
CATEGORIES:Services
END:VEVENT
BEGIN:VEVENT
DTSTART;TZID=America/Phoenix:20230430T103000
DTEND;TZID=America/Phoenix:20230430T103000
DTSTAMP:20260422T220653
CREATED:20230224T214127Z
LAST-MODIFIED:20230224T214127Z
UID:3126-1682850600-1682850600@flagstafftabernacle.com
SUMMARY:Sunday Morning Service
DESCRIPTION:Sunday Morning Service
URL:https://flagstafftabernacle.com/event/sunday-morning-service-12/
CATEGORIES:Services
END:VEVENT
BEGIN:VEVENT
DTSTART;TZID=America/Phoenix:20230426T190000
DTEND;TZID=America/Phoenix:20230426T190000
DTSTAMP:20260422T220653
CREATED:20230224T214935Z
LAST-MODIFIED:20230224T214935Z
UID:3221-1682535600-1682535600@flagstafftabernacle.com
SUMMARY:Wednesday Evening Service
DESCRIPTION:Wednesday Evening Service
URL:https://flagstafftabernacle.com/event/wednesday-evening-service-11/
CATEGORIES:Services
END:VEVENT
BEGIN:VEVENT
DTSTART;TZID=America/Phoenix:20230423T103000
DTEND;TZID=America/Phoenix:20230423T103000
DTSTAMP:20260422T220653
CREATED:20230224T214127Z
LAST-MODIFIED:20230224T214127Z
UID:3125-1682245800-1682245800@flagstafftabernacle.com
SUMMARY:Sunday Morning Service
DESCRIPTION:Sunday Morning Service
URL:https://flagstafftabernacle.com/event/sunday-morning-service-11/
CATEGORIES:Services
END:VEVENT
BEGIN:VEVENT
DTSTART;TZID=America/Phoenix:20230419T190000
DTEND;TZID=America/Phoenix:20230419T190000
DTSTAMP:20260422T220653
CREATED:20230224T214934Z
LAST-MODIFIED:20230224T214934Z
UID:3220-1681930800-1681930800@flagstafftabernacle.com
SUMMARY:Wednesday Evening Service
DESCRIPTION:Wednesday Evening Service
URL:https://flagstafftabernacle.com/event/wednesday-evening-service-10/
CATEGORIES:Services
END:VEVENT
BEGIN:VEVENT
DTSTART;TZID=America/Phoenix:20230416T103000
DTEND;TZID=America/Phoenix:20230416T103000
DTSTAMP:20260422T220653
CREATED:20230224T214127Z
LAST-MODIFIED:20230224T214127Z
UID:3124-1681641000-1681641000@flagstafftabernacle.com
SUMMARY:Sunday Morning Service
DESCRIPTION:Sunday Morning Service
URL:https://flagstafftabernacle.com/event/sunday-morning-service-10/
CATEGORIES:Services
END:VEVENT
BEGIN:VEVENT
DTSTART;TZID=America/Phoenix:20230412T190000
DTEND;TZID=America/Phoenix:20230412T190000
DTSTAMP:20260422T220653
CREATED:20230224T214934Z
LAST-MODIFIED:20230224T214934Z
UID:3219-1681326000-1681326000@flagstafftabernacle.com
SUMMARY:Wednesday Evening Service
DESCRIPTION:Wednesday Evening Service
URL:https://flagstafftabernacle.com/event/wednesday-evening-service-9/
CATEGORIES:Services
END:VEVENT
BEGIN:VEVENT
DTSTART;TZID=America/Phoenix:20230409T103000
DTEND;TZID=America/Phoenix:20230409T103000
DTSTAMP:20260422T220653
CREATED:20230224T214127Z
LAST-MODIFIED:20230224T214127Z
UID:3123-1681036200-1681036200@flagstafftabernacle.com
SUMMARY:Sunday Morning Service
DESCRIPTION:Sunday Morning Service
URL:https://flagstafftabernacle.com/event/sunday-morning-service-9/
CATEGORIES:Services
END:VEVENT
BEGIN:VEVENT
DTSTART;TZID=America/Phoenix:20230405T190000
DTEND;TZID=America/Phoenix:20230405T190000
DTSTAMP:20260422T220653
CREATED:20230224T214933Z
LAST-MODIFIED:20230224T214933Z
UID:3218-1680721200-1680721200@flagstafftabernacle.com
SUMMARY:Wednesday Evening Service
DESCRIPTION:Wednesday Evening Service
URL:https://flagstafftabernacle.com/event/wednesday-evening-service-8/
CATEGORIES:Services
END:VEVENT
BEGIN:VEVENT
DTSTART;TZID=America/Phoenix:20230402T103000
DTEND;TZID=America/Phoenix:20230402T103000
DTSTAMP:20260422T220653
CREATED:20230224T214126Z
LAST-MODIFIED:20230224T214126Z
UID:3122-1680431400-1680431400@flagstafftabernacle.com
SUMMARY:Sunday Morning Service
DESCRIPTION:Sunday Morning Service
URL:https://flagstafftabernacle.com/event/sunday-morning-service-8/
CATEGORIES:Services
END:VEVENT
BEGIN:VEVENT
DTSTART;TZID=America/Phoenix:20230329T190000
DTEND;TZID=America/Phoenix:20230329T190000
DTSTAMP:20260422T220653
CREATED:20230224T214933Z
LAST-MODIFIED:20230224T214933Z
UID:3217-1680116400-1680116400@flagstafftabernacle.com
SUMMARY:Wednesday Evening Service
DESCRIPTION:Wednesday Evening Service
URL:https://flagstafftabernacle.com/event/wednesday-evening-service-7/
CATEGORIES:Services
END:VEVENT
BEGIN:VEVENT
DTSTART;TZID=America/Phoenix:20230326T103000
DTEND;TZID=America/Phoenix:20230326T103000
DTSTAMP:20260422T220653
CREATED:20230224T214126Z
LAST-MODIFIED:20230224T214126Z
UID:3121-1679826600-1679826600@flagstafftabernacle.com
SUMMARY:Sunday Morning Service
DESCRIPTION:Sunday Morning Service
URL:https://flagstafftabernacle.com/event/sunday-morning-service-7/
CATEGORIES:Services
END:VEVENT
BEGIN:VEVENT
DTSTART;TZID=America/Phoenix:20230322T190000
DTEND;TZID=America/Phoenix:20230322T190000
DTSTAMP:20260422T220653
CREATED:20230224T214933Z
LAST-MODIFIED:20230224T214933Z
UID:3216-1679511600-1679511600@flagstafftabernacle.com
SUMMARY:Wednesday Evening Service
DESCRIPTION:Wednesday Evening Service
URL:https://flagstafftabernacle.com/event/wednesday-evening-service-6/
CATEGORIES:Services
END:VEVENT
BEGIN:VEVENT
DTSTART;TZID=America/Phoenix:20230319T103000
DTEND;TZID=America/Phoenix:20230319T103000
DTSTAMP:20260422T220653
CREATED:20230224T214125Z
LAST-MODIFIED:20230224T214125Z
UID:3120-1679221800-1679221800@flagstafftabernacle.com
SUMMARY:Sunday Morning Service
DESCRIPTION:Sunday Morning Service
URL:https://flagstafftabernacle.com/event/sunday-morning-service-6/
CATEGORIES:Services
END:VEVENT
BEGIN:VEVENT
DTSTART;TZID=America/Phoenix:20230315T190000
DTEND;TZID=America/Phoenix:20230315T190000
DTSTAMP:20260422T220653
CREATED:20230224T214933Z
LAST-MODIFIED:20230224T214933Z
UID:3215-1678906800-1678906800@flagstafftabernacle.com
SUMMARY:Wednesday Evening Service
DESCRIPTION:Wednesday Evening Service
URL:https://flagstafftabernacle.com/event/wednesday-evening-service-5/
CATEGORIES:Services
END:VEVENT
BEGIN:VEVENT
DTSTART;TZID=America/Phoenix:20230312T103000
DTEND;TZID=America/Phoenix:20230312T103000
DTSTAMP:20260422T220653
CREATED:20230224T214125Z
LAST-MODIFIED:20230224T214125Z
UID:3119-1678617000-1678617000@flagstafftabernacle.com
SUMMARY:Sunday Morning Service
DESCRIPTION:Sunday Morning Service
URL:https://flagstafftabernacle.com/event/sunday-morning-service-5/
CATEGORIES:Services
END:VEVENT
BEGIN:VEVENT
DTSTART;TZID=America/Phoenix:20230308T190000
DTEND;TZID=America/Phoenix:20230308T190000
DTSTAMP:20260422T220653
CREATED:20230224T214933Z
LAST-MODIFIED:20230224T214933Z
UID:3214-1678302000-1678302000@flagstafftabernacle.com
SUMMARY:Wednesday Evening Service
DESCRIPTION:Wednesday Evening Service
URL:https://flagstafftabernacle.com/event/wednesday-evening-service-4/
CATEGORIES:Services
END:VEVENT
BEGIN:VEVENT
DTSTART;TZID=America/Phoenix:20230305T103000
DTEND;TZID=America/Phoenix:20230305T103000
DTSTAMP:20260422T220653
CREATED:20230224T214125Z
LAST-MODIFIED:20230224T214125Z
UID:3118-1678012200-1678012200@flagstafftabernacle.com
SUMMARY:Sunday Morning Service
DESCRIPTION:Sunday Morning Service
URL:https://flagstafftabernacle.com/event/sunday-morning-service-4/
CATEGORIES:Services
END:VEVENT
BEGIN:VEVENT
DTSTART;TZID=America/Phoenix:20230301T190000
DTEND;TZID=America/Phoenix:20230301T210000
DTSTAMP:20260422T220653
CREATED:20230208T002242Z
LAST-MODIFIED:20230221T214731Z
UID:3025-1677697200-1677704400@flagstafftabernacle.com
SUMMARY:Wednesday Evening Service
DESCRIPTION:Wednesday Evening Service
URL:https://flagstafftabernacle.com/event/wednesday-evening-service-3/
CATEGORIES:Services
END:VEVENT
BEGIN:VEVENT
DTSTART;TZID=America/Phoenix:20230225T163000
DTEND;TZID=America/Phoenix:20230225T183000
DTSTAMP:20260422T220653
CREATED:20230208T002242Z
LAST-MODIFIED:20230225T051538Z
UID:3024-1677342600-1677349800@flagstafftabernacle.com
SUMMARY:Special Saturday Evening Service
DESCRIPTION:Special Saturday Evening Service
URL:https://flagstafftabernacle.com/event/sunday-morning-service-3/
CATEGORIES:Services
END:VEVENT
BEGIN:VEVENT
DTSTART;TZID=America/Phoenix:20230222T190000
DTEND;TZID=America/Phoenix:20230222T210000
DTSTAMP:20260422T220653
CREATED:20230208T002241Z
LAST-MODIFIED:20230221T214658Z
UID:3022-1677092400-1677099600@flagstafftabernacle.com
SUMMARY:Wednesday Evening Service
DESCRIPTION:Wednesday Evening Service
URL:https://flagstafftabernacle.com/event/wednesday-evening-service-2/
CATEGORIES:Services
END:VEVENT
BEGIN:VEVENT
DTSTART;TZID=UTC:20230219T103000
DTEND;TZID=UTC:20230219T123000
DTSTAMP:20260422T220653
CREATED:20230208T002240Z
LAST-MODIFIED:20230208T002240Z
UID:3021-1676802600-1676809800@flagstafftabernacle.com
SUMMARY:Sunday Morning Service
DESCRIPTION:Sunday Morning Service
URL:https://flagstafftabernacle.com/event/sunday-morning-service-2/
CATEGORIES:Services
END:VEVENT
BEGIN:VEVENT
DTSTART;TZID=UTC:20230215T190000
DTEND;TZID=UTC:20230215T210000
DTSTAMP:20260422T220653
CREATED:20230208T002240Z
LAST-MODIFIED:20230208T002240Z
UID:3019-1676487600-1676494800@flagstafftabernacle.com
SUMMARY:Wednesday Evening Service
DESCRIPTION:Wednesday Evening Service
URL:https://flagstafftabernacle.com/event/wednesday-evening-service/
CATEGORIES:Services
END:VEVENT
BEGIN:VEVENT
DTSTART;TZID=UTC:20230212T103000
DTEND;TZID=UTC:20230212T123000
DTSTAMP:20260422T220653
CREATED:20230208T002239Z
LAST-MODIFIED:20230208T002239Z
UID:3018-1676197800-1676205000@flagstafftabernacle.com
SUMMARY:Sunday Morning Service
DESCRIPTION:Sunday Morning Service
URL:https://flagstafftabernacle.com/event/sunday-morning-service/
CATEGORIES:Services
END:VEVENT
END:VCALENDAR